BEGIN:VCALENDAR
VERSION:2.0
PRODID:-//SMBKM London | Syro Malabar Catholic Church Walthamstow, UK, London - ECPv6.15.11//NONSGML v1.0//EN
CALSCALE:GREGORIAN
METHOD:PUBLISH
X-WR-CALNAME:SMBKM London | Syro Malabar Catholic Church Walthamstow, UK, London
X-ORIGINAL-URL:https://smbkmlondon.co.uk
X-WR-CALDESC:Events for SMBKM London | Syro Malabar Catholic Church Walthamstow, UK, London
REFRESH-INTERVAL;VALUE=DURATION:PT1H
X-Robots-Tag:noindex
X-PUBLISHED-TTL:PT1H
BEGIN:VTIMEZONE
TZID:Europe/London
BEGIN:DAYLIGHT
TZOFFSETFROM:+0000
TZOFFSETTO:+0100
TZNAME:BST
DTSTART:20220327T010000
END:DAYLIGHT
BEGIN:STANDARD
TZOFFSETFROM:+0100
TZOFFSETTO:+0000
TZNAME:GMT
DTSTART:20221030T010000
END:STANDARD
BEGIN:DAYLIGHT
TZOFFSETFROM:+0000
TZOFFSETTO:+0100
TZNAME:BST
DTSTART:20230326T010000
END:DAYLIGHT
BEGIN:STANDARD
TZOFFSETFROM:+0100
TZOFFSETTO:+0000
TZNAME:GMT
DTSTART:20231029T010000
END:STANDARD
BEGIN:DAYLIGHT
TZOFFSETFROM:+0000
TZOFFSETTO:+0100
TZNAME:BST
DTSTART:20240331T010000
END:DAYLIGHT
BEGIN:STANDARD
TZOFFSETFROM:+0100
TZOFFSETTO:+0000
TZNAME:GMT
DTSTART:20241027T010000
END:STANDARD
BEGIN:DAYLIGHT
TZOFFSETFROM:+0000
TZOFFSETTO:+0100
TZNAME:BST
DTSTART:20250330T010000
END:DAYLIGHT
BEGIN:STANDARD
TZOFFSETFROM:+0100
TZOFFSETTO:+0000
TZNAME:GMT
DTSTART:20251026T010000
END:STANDARD
END:VTIMEZONE
BEGIN:VEVENT
DTSTART;VALUE=DATE:20241001
DTEND;VALUE=DATE:20241101
DTSTAMP:20260426T032738
CREATED:20241003T000036Z
LAST-MODIFIED:20241003T130843Z
UID:3683-1727740800-1730419199@smbkmlondon.co.uk
SUMMARY:October 2024: Month of the Holy Rosary
DESCRIPTION:Our Mission’s Rosary Month prayers will be held at selected homes in each ward. \nFurther details about the venues for each day are available from ward leaders. \nAll families are requested to join the prayers and receive blessings from our Lord through Mother Mary.
URL:https://smbkmlondon.co.uk/event/october-2024-month-of-the-holy-rosary/
ATTACH;FMTTYPE=image/jpeg:https://smbkmlondon.co.uk/wp-content/uploads/2024/10/Holy-Rosary-Month-600x600-1.jpg
END:VEVENT
BEGIN:VEVENT
DTSTART;VALUE=DATE:20240928
DTEND;VALUE=DATE:20240929
DTSTAMP:20260426T032738
CREATED:20240927T221026Z
LAST-MODIFIED:20240927T221026Z
UID:3664-1727481600-1727567999@smbkmlondon.co.uk
SUMMARY:Bible Kalotsavam (London Region / Phase 2)
DESCRIPTION:
URL:https://smbkmlondon.co.uk/event/bible-kalotsavam-london-region-phase-2/
ATTACH;FMTTYPE=image/jpeg:https://smbkmlondon.co.uk/wp-content/uploads/2024/09/Bible-Festival.jpg
END:VEVENT
BEGIN:VEVENT
DTSTART;TZID=Europe/London:20240503T090000
DTEND;TZID=Europe/London:20240503T220000
DTSTAMP:20260426T032738
CREATED:20240513T112755Z
LAST-MODIFIED:20240513T112755Z
UID:3498-1714726800-1714773600@smbkmlondon.co.uk
SUMMARY:7th Priestly Ordination Anniversary
DESCRIPTION:Dear All in Jesus\, \nPrayers and greetings on the occssion of 7th Anniversary (3/5/2024) of Priestly Ordination of Our Mission Director Fr. Shinto Varghese Vaalimalayil CRM. \n \n 
URL:https://smbkmlondon.co.uk/event/7th-priestly-ordination-anniversary/
ATTACH;FMTTYPE=image/jpeg:https://smbkmlondon.co.uk/wp-content/uploads/2024/05/1715587860875.jpg
END:VEVENT
BEGIN:VEVENT
DTSTART;TZID=Europe/London:20240301T090000
DTEND;TZID=Europe/London:20240303T220000
DTSTAMP:20260426T032739
CREATED:20240306T091721Z
LAST-MODIFIED:20240315T073845Z
UID:3246-1709283600-1709503200@smbkmlondon.co.uk
SUMMARY:Lenten Retreat 2024
DESCRIPTION:ഈശോയിൽ ഏറ്റം സ്നേഹം നിറഞ്ഞവരെ\, \nഗ്രെയ്റ്റ് ബ്രിട്ടൺ സിറോ മലബാർ രൂപതയുടെ ലണ്ടൻ റീജിയനിലെ വൽതാംസ്സ്റ്റോയിലുള്ള  സെയിന്റ് മേരീസ് ആൻഡ് ബ്ലെസ്സഡ് കുഞ്ഞച്ചൻ   മിഷനിൽ  രൂപതയിലെ ഗ്രാന്റ് മിഷന്റെ ഭാഗമായി നടക്കുന്ന വാർഷിക ധ്യാനം. \nമാർച്ച്‌ മാസം 1 മുതൽ 3വരെ നടക്കുന്ന\nധ്യാനം നയിക്കുന്നത് പ്രശസ്ത വചന പ്രഘോഷകനായ ബഹു. ഫാ.ബോസ്കോ ഞാളിയത്തു O.CARM ആകുന്നു. \nവലിയ നൊയമ്പിൽ ഈശോയുടെ പീഡാനുഭവത്തെ ഓർത്തു മാനസാന്തരപ്പെടുവാനും കൂടുതൽ വിശ്വാസത്തിൽ വളരുവാനും എല്ലാവരെയും സ്നേഹപൂർവ്വം സ്വാഗതം ചെയ്യുന്നു. \nഗ്രാന്റ് മിഷന്റെ ഭാഗമായി തിങ്കളാഴ്ച്ച മുതൽ വ്യാഴാഴ്ച  വരെ മിഷനിലെ ഭവനങ്ങളുടെ വെഞ്ചരിപ്പ് നടന്നുവരുന്നു. \nധ്യാന സമയം : \nമാർച്ച്‌ 1\, വെള്ളിയാഴ്ച 07.00pm to 10.30pm \nമാർച്ച്‌ 2\, ശനി 07.00pm to 10.30pm \nമാർച്ച്‌ 3\, ഞായർ 02.00pm to 08.30pm. \nകുറിപ്പ്: കുട്ടികൾക്കായി  പ്രത്യേക ശുശ്രുകൾ ഉണ്ടായിരിക്കുന്നതാണ്. \nNew comers pls.find below the address of the Church. \nSt.Mary’s & Blessed Kunjachan Mission \n(Our Lady & St .George Church). \n132 Shernhall Street \nE17 9HU. \nFor more details please contact. \nMission Director\, \nFr. Shinto Varghese Vaalimalayil CRM. \nകൈക്കാരന്മാർ: \nSaju Varghese: 07882643201\nJose N .U :  07940274072\nJosy Jomon :07532694355
URL:https://smbkmlondon.co.uk/event/lenten-retreat-2024/
ATTACH;FMTTYPE=image/jpeg:https://smbkmlondon.co.uk/wp-content/uploads/2024/03/lent-season-2024.jpeg
END:VEVENT
BEGIN:VEVENT
DTSTART;TZID=Europe/London:20230324T170000
DTEND;TZID=Europe/London:20230324T210000
DTSTAMP:20260426T032739
CREATED:20230306T075105Z
LAST-MODIFIED:20230306T080001Z
UID:3234-1679677200-1679691600@smbkmlondon.co.uk
SUMMARY:Annual Retreat on March 24\, 25\, 26
DESCRIPTION:March 24\, Friday:-  5 PM – 9 PM \nMarch 25\, Saturday:-  5 PM – 9 PM  \nMarch 26\, Sunday:-  2.30 PM – 6.30 PM \nHouse Blessings on March 20 and 21\n 
URL:https://smbkmlondon.co.uk/event/annual-retreat-on-march-24-25-26/
ATTACH;FMTTYPE=image/jpeg:https://smbkmlondon.co.uk/wp-content/uploads/2021/12/event-thumb.jpg
END:VEVENT
END:VCALENDAR